BEGIN:VCALENDAR
VERSION:2.0
PRODID:-//ChamberMaster//Event Calendar 2.0//EN
METHOD:PUBLISH
X-PUBLISHED-TTL:P3D
REFRESH-INTERVAL:P3D
CALSCALE:GREGORIAN
BEGIN:VEVENT
DTSTART;VALUE=DATE:20080813
DTEND;VALUE=DATE:20080814
TRANSP:TRANSPARENT
X-MICROSOFT-CDO-ALLDAYEVENT:TRUE
SUMMARY:Hallelujah Singers
DESCRIPTION:Hear traditional plantation melodies and spirituals\, as well as jazz and blues standards.  Cost:  $33 for\nadults\, $24 for children and can be purchased at the box office or with a credit card by calling the number\nbelow.  Price includes a $5 facility fee.
X-ALT-DESC;FMTTYPE=text/html:Hear traditional plantation melodies and spirituals\, as well as jazz and blues standards.  Cost:  $33 for\nadults\, $24 for children and can be purchased at the box office or with a credit card by calling the number\nbelow.  Price includes a $5 facility fee.
LOCATION:
UID:e.1212.2630
SEQUENCE:3
DTSTAMP:20260425T122258Z
URL:https://business.beaufortchamber.org/events/details/hallelujah-singers-08-13-2008-2630
END:VEVENT

END:VCALENDAR
