BEGIN:VCALENDAR
VERSION:2.0
PRODID:-//ChamberMaster//Event Calendar 2.0//EN
METHOD:PUBLISH
X-PUBLISHED-TTL:P3D
REFRESH-INTERVAL:P3D
CALSCALE:GREGORIAN
BEGIN:VEVENT
DTSTART;VALUE=DATE:20081025
DTEND;VALUE=DATE:20081026
TRANSP:TRANSPARENT
X-MICROSOFT-CDO-ALLDAYEVENT:TRUE
SUMMARY:Hallelujah Singers
DESCRIPTION:Tickets $30 for adults\; $15 for children 12 and younger.  Tickets at www.HallelujahSingers.com or Beaufort Visitor Center.
X-ALT-DESC;FMTTYPE=text/html:Tickets $30 for adults\; $15 for children 12 and younger.  Tickets at www.HallelujahSingers.com or Beaufort Visitor Center.
LOCATION:
UID:e.1212.2682
SEQUENCE:3
DTSTAMP:20260425T135256Z
URL:https://business.beaufortchamber.org/events/details/hallelujah-singers-10-25-2008-2682
END:VEVENT

END:VCALENDAR
