BEGIN:VCALENDAR
VERSION:2.0
PRODID:-//ChamberMaster//Event Calendar 2.0//EN
METHOD:PUBLISH
X-PUBLISHED-TTL:P3D
REFRESH-INTERVAL:P3D
CALSCALE:GREGORIAN
BEGIN:VEVENT
DTSTART;VALUE=DATE:20080929
DTEND;VALUE=DATE:20080930
TRANSP:TRANSPARENT
X-MICROSOFT-CDO-ALLDAYEVENT:TRUE
SUMMARY:Hallelujah Singers Open Auditions
DESCRIPTION:The Hallelujah Singers invite vocalists to audition for upcoming performances in the Beaufort & Charleston areas.  Questions may be directed to the contact information below.
X-ALT-DESC;FMTTYPE=text/html:The Hallelujah Singers invite vocalists to audition for upcoming performances in the Beaufort & Charleston areas.  Questions may be directed to the contact information below.
LOCATION:
UID:e.1212.2679
SEQUENCE:3
DTSTAMP:20260425T133739Z
URL:https://business.beaufortchamber.org/events/details/hallelujah-singers-open-auditions-09-29-2008-2679
END:VEVENT

END:VCALENDAR
