BEGIN:VCALENDAR
VERSION:2.0
PRODID:-//ChamberMaster//Event Calendar 2.0//EN
METHOD:PUBLISH
X-PUBLISHED-TTL:P3D
REFRESH-INTERVAL:P3D
CALSCALE:GREGORIAN
BEGIN:VEVENT
DTSTART;VALUE=DATE:20081128
DTEND;VALUE=DATE:20081129
TRANSP:TRANSPARENT
X-MICROSOFT-CDO-ALLDAYEVENT:TRUE
SUMMARY:Hallelujah Singers Presenting Gullah Christmas
DESCRIPTION:Tickets at www.HallelujahSingers.com. $30 adult\; $15 children 12 and younger. Group discount tickets at $20 available with advance request.
X-ALT-DESC;FMTTYPE=text/html:Tickets at www.HallelujahSingers.com. $30 adult\; $15 children 12 and younger. Group discount tickets at $20 available with advance request.
LOCATION:
UID:e.1212.2683
SEQUENCE:3
DTSTAMP:20260425T145900Z
URL:https://business.beaufortchamber.org/events/details/hallelujah-singers-presenting-gullah-christmas-11-28-2008-2683
END:VEVENT

END:VCALENDAR
