BEGIN:VCALENDAR
VERSION:2.0
PRODID:-//ChamberMaster//Event Calendar 2.0//EN
METHOD:PUBLISH
X-PUBLISHED-TTL:P3D
REFRESH-INTERVAL:P3D
CALSCALE:GREGORIAN
BEGIN:VEVENT
DTSTART;VALUE=DATE:20081025
DTEND;VALUE=DATE:20081026
TRANSP:TRANSPARENT
X-MICROSOFT-CDO-ALLDAYEVENT:TRUE
SUMMARY:Hampton Lake Pumpkin Fest Event
DESCRIPTION:Come - bring your family and join in the fun !  Boat tours\, kayaking\, firefighter demonstartions by Bluffton Fire Dept. and contest for all ages.  Pick-and-decorate pumpkin patch - donations accepted.   Saturday football games shown while enjoying Lowcountry menu or outdoor grill -  variable pricing for food and beverages.
X-ALT-DESC;FMTTYPE=text/html:Come - bring your family and join in the fun !  Boat tours\, kayaking\, firefighter demonstartions by Bluffton Fire Dept. and contest for all ages.  Pick-and-decorate pumpkin patch - donations accepted.   Saturday football games shown while enjoying Lowcountry menu or outdoor grill -  variable pricing for food and beverages.
LOCATION:
UID:e.1212.2762
SEQUENCE:3
DTSTAMP:20260425T135844Z
URL:https://business.beaufortchamber.org/events/details/hampton-lake-pumpkin-fest-event-10-25-2008-2762
END:VEVENT

END:VCALENDAR
