BEGIN:VCALENDAR
VERSION:2.0
PRODID:-//ChamberMaster//Event Calendar 2.0//EN
METHOD:PUBLISH
X-PUBLISHED-TTL:P3D
REFRESH-INTERVAL:P3D
CALSCALE:GREGORIAN
BEGIN:VEVENT
DTSTART:20190228T210000Z
DTEND:20190228T230000Z
X-MICROSOFT-CDO-ALLDAYEVENT:FALSE
SUMMARY:Handbag Happy Hour
DESCRIPTION:
X-ALT-DESC;FMTTYPE=text/html:
LOCATION:The Retreat at Lady's Island 9 Sunset Blvd.\, Lady's Island
UID:e.1212.10777
SEQUENCE:3
DTSTAMP:20260422T221606Z
URL:https://business.beaufortchamber.org/events/details/handbag-happy-hour-10777
END:VEVENT

END:VCALENDAR
