BEGIN:VCALENDAR
VERSION:2.0
PRODID:-//ChamberMaster//Event Calendar 2.0//EN
METHOD:PUBLISH
X-PUBLISHED-TTL:P3D
REFRESH-INTERVAL:P3D
CALSCALE:GREGORIAN
BEGIN:VEVENT
DTSTART;VALUE=DATE:20080126
DTEND;VALUE=DATE:20080127
TRANSP:TRANSPARENT
X-MICROSOFT-CDO-ALLDAYEVENT:TRUE
SUMMARY:Harlem Renaissance - 'Billy & the Duke'
DESCRIPTION:Annual fundraiser for the Arts Council of Beaufort County\; will focus on the collaboration of composer Billy Strayhorn and bandleader Duke Ellington\; dinner\, silent auction\, emerging artist exhibition\, live music and dancing in the energetic ambiance of the Cotton Club era\; black tie\; advance tickets only: celebrity seating for 8 - $560\, reserved table for 8 - $400\, single tickets - $50 and $70
X-ALT-DESC;FMTTYPE=text/html:Annual fundraiser for the Arts Council of Beaufort County\; will focus on the collaboration of composer Billy Strayhorn and bandleader Duke Ellington\; dinner\, silent auction\, emerging artist exhibition\, live music and dancing in the energetic ambiance of the Cotton Club era\; black tie\; <b>advance tickets only: celebrity seating for 8 - $560\, reserved table for 8 - $400\, single tickets - $50 and $70</b>
LOCATION:Parris Island
UID:e.1212.1799
SEQUENCE:3
DTSTAMP:20260424T234232Z
URL:https://business.beaufortchamber.org/events/details/harlem-renaissance-billy-the-duke-01-26-2008-1799
END:VEVENT

END:VCALENDAR
