BEGIN:VCALENDAR
VERSION:2.0
PRODID:-//ChamberMaster//Event Calendar 2.0//EN
METHOD:PUBLISH
X-PUBLISHED-TTL:P3D
REFRESH-INTERVAL:P3D
CALSCALE:GREGORIAN
BEGIN:VEVENT
DTSTART:20190511T140000Z
DTEND:20190511T170000Z
X-MICROSOFT-CDO-ALLDAYEVENT:FALSE
SUMMARY:Help of Beaufort Color Fun Run
DESCRIPTION:The Help of Beaufort Color Fun Run will be an opportunity for the local community to get to know what HELP is all about!! This will also provide a great opportunity to raise funds to support the many programs they have!
X-ALT-DESC;FMTTYPE=text/html:<span style="color: rgb(29\, 33\, 41)\; font-family: system-ui\, -apple-system\, system-ui\, &quot\;.SFNSText-Regular&quot\;\, sans-serif\; font-size: 14px\; white-space: pre-wrap\;">The Help of Beaufort Color Fun Run will be an opportunity for the local community to get to know what HELP is all about!! This will also provide a great opportunity to raise funds to support the many programs they have!</span>
LOCATION:Beaufort Academy Beaufort\, SC
UID:e.1212.11589
SEQUENCE:3
DTSTAMP:20260422T175238Z
URL:https://business.beaufortchamber.org/events/details/help-of-beaufort-color-fun-run-11589
END:VEVENT

END:VCALENDAR
