BEGIN:VCALENDAR
VERSION:2.0
PRODID:-//ChamberMaster//Event Calendar 2.0//EN
METHOD:PUBLISH
X-PUBLISHED-TTL:P3D
REFRESH-INTERVAL:P3D
CALSCALE:GREGORIAN
BEGIN:VEVENT
DTSTART;VALUE=DATE:20071129
DTEND;VALUE=DATE:20071130
TRANSP:TRANSPARENT
X-MICROSOFT-CDO-ALLDAYEVENT:TRUE
SUMMARY:Hewitt Collection of African-American Art Exhibit
DESCRIPTION:Will feature more than 25 works by such renowned artists as Romare Bearden\, John Biggers\, Ernest Crichlow\, James Denmark\, Eugene Grigsby\, and Jonathan Green.  The museum is open Monday - Saturday\, 11 a.m. - 4 p.m.  Admission: $8 adults\, $6 students - includes two exhibits\, walking tour and video
X-ALT-DESC;FMTTYPE=text/html:Will feature more than 25 works by such renowned artists as Romare Bearden\, John Biggers\, Ernest Crichlow\, James Denmark\, Eugene Grigsby\, and Jonathan Green.  The museum is open Monday - Saturday\, 11 a.m. - 4 p.m.  <b>Admission: $8 adults\, $6 students - includes two exhibits\, walking tour and video</b>
LOCATION:St. Helena Island
UID:e.1212.2031
SEQUENCE:3
DTSTAMP:20260424T212909Z
URL:https://business.beaufortchamber.org/events/details/hewitt-collection-of-african-american-art-exhibit-11-29-2007-2031
END:VEVENT

END:VCALENDAR
