BEGIN:VCALENDAR
VERSION:2.0
PRODID:-//ChamberMaster//Event Calendar 2.0//EN
METHOD:PUBLISH
X-PUBLISHED-TTL:P3D
REFRESH-INTERVAL:P3D
CALSCALE:GREGORIAN
BEGIN:VEVENT
DTSTART;VALUE=DATE:20080324
DTEND;VALUE=DATE:20080325
TRANSP:TRANSPARENT
X-MICROSOFT-CDO-ALLDAYEVENT:TRUE
SUMMARY:HGTV Green Home Tour At Tradition Hilton Head
DESCRIPTION:Tour admission: $20.  Tickets may only be purchased at Tradition Hilton Head during the tours.  United\nWay will be the charity recipient of ticket proceeds.
X-ALT-DESC;FMTTYPE=text/html:Tour admission: $20.  Tickets may only be purchased at Tradition Hilton Head during the tours.  United\nWay will be the charity recipient of ticket proceeds.
LOCATION:
UID:e.1212.2309
SEQUENCE:3
DTSTAMP:20260425T024722Z
URL:https://business.beaufortchamber.org/events/details/hgtv-green-home-tour-at-tradition-hilton-head-03-24-2008-2309
END:VEVENT

END:VCALENDAR
