BEGIN:VCALENDAR
VERSION:2.0
PRODID:-//ChamberMaster//Event Calendar 2.0//EN
METHOD:PUBLISH
X-PUBLISHED-TTL:P3D
REFRESH-INTERVAL:P3D
CALSCALE:GREGORIAN
BEGIN:VEVENT
DTSTART;VALUE=DATE:20081102
DTEND;VALUE=DATE:20081103
TRANSP:TRANSPARENT
X-MICROSOFT-CDO-ALLDAYEVENT:TRUE
SUMMARY:Hilton Head Island Concours d'Elegance & Motoring Festival
DESCRIPTION:Cost:  $35/adult (daily price at the gate).  Children ages 12-18 get in for $5 (at the gate with a student ID) Children under 12 get in free.  Discounted tickets available in advance online.  Group rates and weekend packages available online.  For more information\, contact the Concours office at the number below.
X-ALT-DESC;FMTTYPE=text/html:Cost:  $35/adult (daily price at the gate).  Children ages 12-18 get in for $5 (at the gate with a student ID) Children under 12 get in free.  Discounted tickets available in advance online.  Group rates and weekend packages available online.  For more information\, contact the Concours office at the number below.
LOCATION:
UID:e.1212.2615
SEQUENCE:3
DTSTAMP:20260425T152016Z
URL:https://business.beaufortchamber.org/events/details/hilton-head-island-concours-d-elegance-motoring-festival-11-02-2008-2615
END:VEVENT

END:VCALENDAR
