BEGIN:VCALENDAR
VERSION:2.0
PRODID:-//ChamberMaster//Event Calendar 2.0//EN
METHOD:PUBLISH
X-PUBLISHED-TTL:P3D
REFRESH-INTERVAL:P3D
CALSCALE:GREGORIAN
BEGIN:VEVENT
DTSTART;VALUE=DATE:20080201
DTEND;VALUE=DATE:20080202
TRANSP:TRANSPARENT
X-MICROSOFT-CDO-ALLDAYEVENT:TRUE
SUMMARY:Historic Beaufort Foundation's 10th Annual Oyster Roast
DESCRIPTION:Tickets will not be sold at door\; reservations must be made for a 5:30 p.m. or 7:30 p.m. serving of oysters\, chicken gumbo\, corn bread\, beverages and dessert.  However\, the grounds and the bonfires will be open to guests throughout the evening.  The roast will be catered by Reeves Outdoor Catering of Bluffton.  Beek Webb and the Lowcountry Ramblers will provide music.  Tickets: $30 per person and must be purchased by January 25th to receive tickets and a map by mail\, and by January 29th for pick-up at Foundation headquarters at the George Parsons Elliot House\, 1001 Bay Street.  For the price of a ticket\, first-time participants gain a one-year complimentary membership in the preservation organization.
X-ALT-DESC;FMTTYPE=text/html:Tickets will not be sold at door\; reservations must be made for a 5:30 p.m. or 7:30 p.m. serving of oysters\, chicken gumbo\, corn bread\, beverages and dessert.  However\, the grounds and the bonfires will be open to guests throughout the evening.  The roast will be catered by Reeves Outdoor Catering of Bluffton.  Beek Webb and the Lowcountry Ramblers will provide music.  <b>Tickets: $30 per person and must be purchased by January 25th to receive tickets and a map by mail\, and by January 29th for pick-up at Foundation headquarters at the George Parsons Elliot House\, 1001 Bay Street.  For the price of a ticket\, first-time participants gain a one-year complimentary membership in the preservation organization.
LOCATION:Beaufort
UID:e.1212.1988
SEQUENCE:3
DTSTAMP:20260425T010455Z
URL:https://business.beaufortchamber.org/events/details/historic-beaufort-foundation-s-10th-annual-oyster-roast-02-01-2008-1988
END:VEVENT

END:VCALENDAR
