BEGIN:VCALENDAR
VERSION:2.0
PRODID:-//ChamberMaster//Event Calendar 2.0//EN
METHOD:PUBLISH
X-PUBLISHED-TTL:P3D
REFRESH-INTERVAL:P3D
CALSCALE:GREGORIAN
BEGIN:VEVENT
DTSTART;VALUE=DATE:20081015
DTEND;VALUE=DATE:20081016
TRANSP:TRANSPARENT
X-MICROSOFT-CDO-ALLDAYEVENT:TRUE
SUMMARY:Historic Preservation Forum
DESCRIPTION:Candidates for mayor of Beaufort and for two open city council seats will be asked to address issues relevant to historic preservation at a free forum sponsored by Historic Beaufort Foundation.  Issues include downtown livability\, traffic and safety\, historic preservation and downtown development.  The public will have an opportunity to submit questions.  Seating will be available on a first-come basis.  The doors open at 6:30 p.m.
X-ALT-DESC;FMTTYPE=text/html:Candidates for mayor of Beaufort and for two open city council seats will be asked to address issues relevant to historic preservation at a free forum sponsored by Historic Beaufort Foundation.  Issues include downtown livability\, traffic and safety\, historic preservation and downtown development.  The public will have an opportunity to submit questions.  Seating will be available on a first-come basis.  The doors open at 6:30 p.m.
LOCATION:
UID:e.1212.2690
SEQUENCE:3
DTSTAMP:20260425T135000Z
URL:https://business.beaufortchamber.org/events/details/historic-preservation-forum-10-15-2008-2690
END:VEVENT

END:VCALENDAR
