BEGIN:VCALENDAR
VERSION:2.0
PRODID:-//ChamberMaster//Event Calendar 2.0//EN
METHOD:PUBLISH
X-PUBLISHED-TTL:P3D
REFRESH-INTERVAL:P3D
CALSCALE:GREGORIAN
BEGIN:VEVENT
DTSTART:20221208T220000Z
DTEND:20221208T233000Z
X-MICROSOFT-CDO-ALLDAYEVENT:FALSE
SUMMARY:Holiday Business After Hours hosted by 303 Associates
DESCRIPTION:It's the Grand Finale of Business After Hours events for 2022! \n\nJoin us on Thursday\, December 8 at 5pm for a holiday celebration hosted by 303 Associates. Music\, refreshments\, and a visit from Santa will support a premier networking event for Chamber members to end the year in style.
X-ALT-DESC;FMTTYPE=text/html:It&#39\;s the Grand Finale of Business After Hours events for 2022!&nbsp\;<br />\nJoin us on Thursday\, December 8 at 5pm for a holiday celebration hosted by 303 Associates. Music\, refreshments\, and a visit from Santa will support a premier networking event for Chamber members to end the year in style.
LOCATION:2015 Boundary Street\, Grass area in Beaufort Town Center (between Hilton Garden Inn and Quality Inn)
UID:e.1212.13327
SEQUENCE:3
DTSTAMP:20260424T204252Z
URL:https://business.beaufortchamber.org/events/details/holiday-business-after-hours-hosted-by-303-associates-13327
END:VEVENT

END:VCALENDAR
