BEGIN:VCALENDAR
VERSION:2.0
PRODID:-//ChamberMaster//Event Calendar 2.0//EN
METHOD:PUBLISH
X-PUBLISHED-TTL:P3D
REFRESH-INTERVAL:P3D
CALSCALE:GREGORIAN
BEGIN:VEVENT
DTSTART;VALUE=DATE:20080926
DTEND;VALUE=DATE:20080927
TRANSP:TRANSPARENT
X-MICROSOFT-CDO-ALLDAYEVENT:TRUE
SUMMARY:Home Builders of the Lowcountry 24th Annual Home & Garden Show
DESCRIPTION:The Preview Party is Friday 6:30 pm - 9:30 pm.  Show opens Saturday at 10 am - 5 pm\,  Sunday 12 N -4pm.  $2 admission fee with children free.  Contact the local HBA with any questions at (843) 524-5203 or at hbaofthelowcountry@hargray.com
X-ALT-DESC;FMTTYPE=text/html:The Preview Party is Friday 6:30 pm - 9:30 pm.  Show opens Saturday at 10 am - 5 pm\,  Sunday 12 N -4pm.  $2 admission fee with children free.  Contact the local HBA with any questions at (843) 524-5203 or at hbaofthelowcountry@hargray.com\n
LOCATION:
UID:e.1212.2621
SEQUENCE:3
DTSTAMP:20260425T122847Z
URL:https://business.beaufortchamber.org/events/details/home-builders-of-the-lowcountry-24th-annual-home-garden-show-09-26-2008-2621
END:VEVENT

END:VCALENDAR
