BEGIN:VCALENDAR
VERSION:2.0
PRODID:-//ChamberMaster//Event Calendar 2.0//EN
METHOD:PUBLISH
X-PUBLISHED-TTL:P3D
REFRESH-INTERVAL:P3D
CALSCALE:GREGORIAN
BEGIN:VEVENT
DTSTART;VALUE=DATE:20080122
DTEND;VALUE=DATE:20080123
TRANSP:TRANSPARENT
X-MICROSOFT-CDO-ALLDAYEVENT:TRUE
SUMMARY:If You Give a Mouse a Cookie & Other Story Books
DESCRIPTION:Sparkling revue comprised of several mini-musicals based on popular children's books\, including Amazing Grace\, Borreguita and the Coyote\, If You Give a Mouse a Cookie\, Martha Speaks\, Math Curse\, Owen\, and more.  Series for children ages 3-12\; children attend in pajamas\, see one-hour performance and receive cookies and milk\; there must be at least one (1) adult accompanying every four (4) children.
X-ALT-DESC;FMTTYPE=text/html:Sparkling revue comprised of several mini-musicals based on popular children's books\, including <i>Amazing Grace</i>\, <i>Borreguita and the Coyote</i>\, <i>If You Give a Mouse a Cookie</i>\, <i>Martha Speaks</i>\, <i>Math Curse</i>\, <i>Owen</i>\, and more.  <i>Series for children ages 3-12\; children attend in pajamas\, see one-hour performance and receive cookies and milk\; there must be at least one (1) adult accompanying every four (4) children.</i>
LOCATION:Beaufort
UID:e.1212.2050
SEQUENCE:3
DTSTAMP:20260425T010456Z
URL:https://business.beaufortchamber.org/events/details/if-you-give-a-mouse-a-cookie-other-story-books-01-22-2008-2050
END:VEVENT

END:VCALENDAR
