BEGIN:VCALENDAR
VERSION:2.0
PRODID:-//ChamberMaster//Event Calendar 2.0//EN
METHOD:PUBLISH
X-PUBLISHED-TTL:P3D
REFRESH-INTERVAL:P3D
CALSCALE:GREGORIAN
BEGIN:VEVENT
DTSTART;VALUE=DATE:20080918
DTEND;VALUE=DATE:20080919
TRANSP:TRANSPARENT
X-MICROSOFT-CDO-ALLDAYEVENT:TRUE
SUMMARY:Industry Appreciation Day
DESCRIPTION:A tribute to manufaturers who make Beaufort County a great place to live and work.  Please RSVP by September 15 to the number listed below.
X-ALT-DESC;FMTTYPE=text/html:A tribute to manufaturers who make Beaufort County a great place to live and work.  Please RSVP by September 15 to the number listed below.
LOCATION:
UID:e.1212.2647
SEQUENCE:3
DTSTAMP:20260425T122151Z
URL:https://business.beaufortchamber.org/events/details/industry-appreciation-day-09-18-2008-2647
END:VEVENT

END:VCALENDAR
