BEGIN:VCALENDAR
VERSION:2.0
PRODID:-//ChamberMaster//Event Calendar 2.0//EN
METHOD:PUBLISH
X-PUBLISHED-TTL:P3D
REFRESH-INTERVAL:P3D
CALSCALE:GREGORIAN
BEGIN:VEVENT
DTSTART;VALUE=DATE:20080903
DTEND;VALUE=DATE:20080904
TRANSP:TRANSPARENT
X-MICROSOFT-CDO-ALLDAYEVENT:TRUE
SUMMARY:International Literacy Day Celebration
DESCRIPTION:Evening awards reception honoring volunteers and community partners of Literacy Volunteers of the\nLowcountry.  Mr. David Harvey of ProLiteracy Worldwide will be the featured speaker.  More information\nto come.
X-ALT-DESC;FMTTYPE=text/html:Evening awards reception honoring volunteers and community partners of Literacy Volunteers of the\nLowcountry.  Mr. David Harvey of ProLiteracy Worldwide will be the featured speaker.  More information\nto come.
LOCATION:
UID:e.1212.2608
SEQUENCE:3
DTSTAMP:20260425T122420Z
URL:https://business.beaufortchamber.org/events/details/international-literacy-day-celebration-09-03-2008-2608
END:VEVENT

END:VCALENDAR
