BEGIN:VCALENDAR
VERSION:2.0
PRODID:-//ChamberMaster//Event Calendar 2.0//EN
METHOD:PUBLISH
X-PUBLISHED-TTL:P3D
REFRESH-INTERVAL:P3D
CALSCALE:GREGORIAN
BEGIN:VEVENT
DTSTART:20250403T140000Z
DTEND:20250403T160000Z
X-MICROSOFT-CDO-ALLDAYEVENT:FALSE
SUMMARY:Intro to Clay Workshop
DESCRIPTION:Artist Danny McSweeney leads a fun and informative two-hour workshop. Perfect for beginners\, this class will guide you through the basics of working with clay\, from shaping to texturing. All supplies are included\, so just come ready to get your hands dirty! Please note that purchases are non-refundable and cannot be transferred to a later class date.
X-ALT-DESC;FMTTYPE=text/html:<span style="color:rgb(34\, 34\, 34)\; font-family:adobe-jenson-pro-display\,serif\; font-size:24px">Artist Danny McSweeney leads a fun and informative two-hour workshop. Perfect for beginners\, this class will guide you through the basics of working with clay\, from shaping to texturing. All supplies are included\, so just come ready to get your hands dirty! Please note that purchases are non-refundable and cannot be transferred to a later class date.</span>
LOCATION:Morris Center for Lowcountry Heritage
UID:e.1212.14173
SEQUENCE:3
DTSTAMP:20260423T223956Z
URL:https://business.beaufortchamber.org/events/details/intro-to-clay-workshop-14173
END:VEVENT

END:VCALENDAR
