BEGIN:VCALENDAR
VERSION:2.0
PRODID:-//ChamberMaster//Event Calendar 2.0//EN
METHOD:PUBLISH
X-PUBLISHED-TTL:P3D
REFRESH-INTERVAL:P3D
CALSCALE:GREGORIAN
BEGIN:VEVENT
DTSTART;VALUE=DATE:20080315
DTEND;VALUE=DATE:20080316
TRANSP:TRANSPARENT
X-MICROSOFT-CDO-ALLDAYEVENT:TRUE
SUMMARY:Introduction to Beginning Clay Techniques
DESCRIPTION:Reservations are required.  Cost:  $30.  Please call or email for materials needed and to reserve your\nspace.
X-ALT-DESC;FMTTYPE=text/html:Reservations are required.  Cost:  $30.  Please call or email for materials needed and to reserve your\nspace.
LOCATION:
UID:e.1212.2265
SEQUENCE:3
DTSTAMP:20260425T040448Z
URL:https://business.beaufortchamber.org/events/details/introduction-to-beginning-clay-techniques-03-15-2008-2265
END:VEVENT

END:VCALENDAR
