BEGIN:VCALENDAR
VERSION:2.0
PRODID:-//ChamberMaster//Event Calendar 2.0//EN
METHOD:PUBLISH
X-PUBLISHED-TTL:P3D
REFRESH-INTERVAL:P3D
CALSCALE:GREGORIAN
BEGIN:VEVENT
DTSTART;VALUE=DATE:20080112
DTEND;VALUE=DATE:20080113
TRANSP:TRANSPARENT
X-MICROSOFT-CDO-ALLDAYEVENT:TRUE
SUMMARY:James Gregory - Comedian
DESCRIPTION:Call 843.521.4145 for ticket information and other questions.
X-ALT-DESC;FMTTYPE=text/html:Call 843.521.4145 for ticket information and other questions.
LOCATION:
UID:e.1212.1603
SEQUENCE:3
DTSTAMP:20260424T234041Z
URL:https://business.beaufortchamber.org/events/details/james-gregory-comedian-01-12-2008-1603
END:VEVENT

END:VCALENDAR
