BEGIN:VCALENDAR
VERSION:2.0
PRODID:-//ChamberMaster//Event Calendar 2.0//EN
METHOD:PUBLISH
X-PUBLISHED-TTL:P3D
REFRESH-INTERVAL:P3D
CALSCALE:GREGORIAN
BEGIN:VEVENT
DTSTART;VALUE=DATE:20080209
DTEND;VALUE=DATE:20080210
TRANSP:TRANSPARENT
X-MICROSOFT-CDO-ALLDAYEVENT:TRUE
SUMMARY:Jewelry Wire Wrapping Techniques Class
DESCRIPTION:Beginners beading class required.  Call or email for details and supplies  to bring.  Reservations required.  Cost:  $32.
X-ALT-DESC;FMTTYPE=text/html:Beginners beading class required.  Call or email for details and supplies  to bring.  Reservations required.  Cost:  $32.\n
LOCATION:
UID:e.1212.2163
SEQUENCE:3
DTSTAMP:20260425T023903Z
URL:https://business.beaufortchamber.org/events/details/jewelry-wire-wrapping-techniques-class-02-09-2008-2163
END:VEVENT

END:VCALENDAR
