BEGIN:VCALENDAR
VERSION:2.0
PRODID:-//ChamberMaster//Event Calendar 2.0//EN
METHOD:PUBLISH
X-PUBLISHED-TTL:P3D
REFRESH-INTERVAL:P3D
CALSCALE:GREGORIAN
BEGIN:VEVENT
DTSTART;VALUE=DATE:20080308
DTEND;VALUE=DATE:20080309
TRANSP:TRANSPARENT
X-MICROSOFT-CDO-ALLDAYEVENT:TRUE
SUMMARY:Jewelry Wire Wrapping Techniques Class
DESCRIPTION:Learn several wire wrapping techniques to design jewelry.  Call or email for details and materials needed.\nReservations required.  Fee:  $32.
X-ALT-DESC;FMTTYPE=text/html:Learn several wire wrapping techniques to design jewelry.  Call or email for details and materials needed.\nReservations required.  Fee:  $32.
LOCATION:
UID:e.1212.2231
SEQUENCE:3
DTSTAMP:20260425T024545Z
URL:https://business.beaufortchamber.org/events/details/jewelry-wire-wrapping-techniques-class-03-08-2008-2231
END:VEVENT

END:VCALENDAR
