BEGIN:VCALENDAR
VERSION:2.0
PRODID:-//ChamberMaster//Event Calendar 2.0//EN
METHOD:PUBLISH
X-PUBLISHED-TTL:P3D
REFRESH-INTERVAL:P3D
CALSCALE:GREGORIAN
BEGIN:VEVENT
DTSTART;VALUE=DATE:20081011
DTEND;VALUE=DATE:20081012
TRANSP:TRANSPARENT
X-MICROSOFT-CDO-ALLDAYEVENT:TRUE
SUMMARY:Jonathan Green Poster Sale & Wine and Cheese Reception
DESCRIPTION:FREE & open to the public. 37 different Jonathan Green posters\, some signed and framed\, will be available for sale.
X-ALT-DESC;FMTTYPE=text/html:FREE & open to the public. 37 different Jonathan Green posters\, some signed and framed\, will be available for sale.
LOCATION:
UID:e.1212.2665
SEQUENCE:3
DTSTAMP:20260425T145859Z
URL:https://business.beaufortchamber.org/events/details/jonathan-green-poster-sale-wine-and-cheese-reception-10-11-2008-2665
END:VEVENT

END:VCALENDAR
