BEGIN:VCALENDAR
VERSION:2.0
PRODID:-//ChamberMaster//Event Calendar 2.0//EN
METHOD:PUBLISH
X-PUBLISHED-TTL:P3D
REFRESH-INTERVAL:P3D
CALSCALE:GREGORIAN
BEGIN:VEVENT
DTSTART:20190511T220000Z
DTEND:20190512T020000Z
X-MICROSOFT-CDO-ALLDAYEVENT:FALSE
SUMMARY:JSLB Jubilee
DESCRIPTION:Junior Service League of Beaufort's 14th Annual Spring Celebration\n\n\n\nEnjoy a night of drinks\, music\, silent auction\, raffle\, heavy hors d'oeuvres\, and see first-hand how the JSLB makes a difference in the community through grants and fundraising
X-ALT-DESC;FMTTYPE=text/html:Junior Service League of Beaufort&#39\;s 14th Annual Spring Celebration<br />\n<br />\nEnjoy a night of drinks\, music\, silent auction\, raffle\, heavy hors d&#39\;oeuvres\, and see first-hand how the JSLB makes a difference in the community through grants and fundraising&nbsp\;&nbsp\;&nbsp\;&nbsp\;&nbsp\;
LOCATION:Historic Beaufort Arsenal 713 Craven Street Beaufort\, SC
UID:e.1212.11463
SEQUENCE:3
DTSTAMP:20260422T175024Z
URL:https://business.beaufortchamber.org/events/details/jslb-jubilee-11463
END:VEVENT

END:VCALENDAR
