BEGIN:VCALENDAR
VERSION:2.0
PRODID:-//ChamberMaster//Event Calendar 2.0//EN
METHOD:PUBLISH
X-PUBLISHED-TTL:P3D
REFRESH-INTERVAL:P3D
CALSCALE:GREGORIAN
BEGIN:VEVENT
DTSTART:20200425T220000Z
DTEND:20200426T020000Z
X-MICROSOFT-CDO-ALLDAYEVENT:FALSE
SUMMARY:JSLB Jubilee
DESCRIPTION:Junior Service League of Beaufort's 15th Annual Spring Celebration\n\n\n\nEnjoy a night of drinks\, music\, silent auction\, raffle\, heavy hors d'oeuvres\, and see first-hand how we make a difference in our community through grants and fundraising!
X-ALT-DESC;FMTTYPE=text/html:Junior Service League of Beaufort&#39\;s 15th Annual Spring Celebration<br />\n<br />\nEnjoy a night of drinks\, music\, silent auction\, raffle\, heavy hors d&#39\;oeuvres\, and see first-hand how we make a difference in our community through grants and fundraising!
LOCATION:The Historic Arsenal 713 Craven Street Historic Downtown Beaufort
UID:e.1212.12492
SEQUENCE:3
DTSTAMP:20260420T133941Z
URL:https://business.beaufortchamber.org/events/details/jslb-jubilee-12492
END:VEVENT

END:VCALENDAR
