BEGIN:VCALENDAR
VERSION:2.0
PRODID:-//ChamberMaster//Event Calendar 2.0//EN
METHOD:PUBLISH
X-PUBLISHED-TTL:P3D
REFRESH-INTERVAL:P3D
CALSCALE:GREGORIAN
BEGIN:VEVENT
DTSTART;VALUE=DATE:20080314
DTEND;VALUE=DATE:20080315
TRANSP:TRANSPARENT
X-MICROSOFT-CDO-ALLDAYEVENT:TRUE
SUMMARY:Kamp Katrina
DESCRIPTION:Kamp Katrina:  In this documentary\, a woman converts her backyard into a tent city in which ten displaced people live for six months.  She provides construction jobs and basic resources to help rebuild the city\, but the situation goes violently awry.  A film by David Redmon.  Tickets: $7 general admission\, $4 with student ID
X-ALT-DESC;FMTTYPE=text/html:<i>Kamp Katrina:</i>  In this documentary\, a woman converts her backyard into a tent city in which ten displaced people live for six months.  She provides construction jobs and basic resources to help rebuild the city\, but the situation goes violently awry.  <i>A film by David Redmon.</i>  <b>Tickets: $7 general admission\, $4 with student ID</b>
LOCATION:Beaufort
UID:e.1212.2048
SEQUENCE:3
DTSTAMP:20260425T023904Z
URL:https://business.beaufortchamber.org/events/details/kamp-katrina-03-14-2008-2048
END:VEVENT

END:VCALENDAR
