BEGIN:VCALENDAR
VERSION:2.0
PRODID:-//ChamberMaster//Event Calendar 2.0//EN
METHOD:PUBLISH
X-PUBLISHED-TTL:P3D
REFRESH-INTERVAL:P3D
CALSCALE:GREGORIAN
BEGIN:VEVENT
DTSTART;VALUE=DATE:20080823
DTEND;VALUE=DATE:20080824
TRANSP:TRANSPARENT
X-MICROSOFT-CDO-ALLDAYEVENT:TRUE
SUMMARY:Kiwanis Club of Beaufort presents the 13th Annual Scholarship Golf Tournament
DESCRIPTION:Kiwanis Club of Beaufort presents the 13th Annual Scholarship Golf Tournament. \n\n  Please see attached link for registration information.
X-ALT-DESC;FMTTYPE=text/html:Kiwanis Club of Beaufort presents the 13th Annual Scholarship Golf Tournament. <BR><BR>  Please see attached link for registration information. <BR><BR>
LOCATION:Fripp Island
UID:e.1212.2561
SEQUENCE:3
DTSTAMP:20260425T110008Z
URL:https://business.beaufortchamber.org/events/details/kiwanis-club-of-beaufort-presents-the-13th-annual-scholarship-golf-tournament-08-23-2008-2561
END:VEVENT

END:VCALENDAR
