BEGIN:VCALENDAR
VERSION:2.0
PRODID:-//ChamberMaster//Event Calendar 2.0//EN
METHOD:PUBLISH
X-PUBLISHED-TTL:P3D
REFRESH-INTERVAL:P3D
CALSCALE:GREGORIAN
BEGIN:VEVENT
DTSTART;VALUE=DATE:20080304
DTEND;VALUE=DATE:20080305
TRANSP:TRANSPARENT
X-MICROSOFT-CDO-ALLDAYEVENT:TRUE
SUMMARY:Knitting Basics Class
DESCRIPTION:Four part series:  March 4\, 11\, 18\, 25.  All tools and supplies are provided.  Call or email to reserve your\nspace.   Fee $50.
X-ALT-DESC;FMTTYPE=text/html:Four part series:  March 4\, 11\, 18\, 25.  All tools and supplies are provided.  Call or email to reserve your\nspace.   Fee $50.
LOCATION:
UID:e.1212.2223
SEQUENCE:3
DTSTAMP:20260425T023712Z
URL:https://business.beaufortchamber.org/events/details/knitting-basics-class-03-04-2008-2223
END:VEVENT

END:VCALENDAR
