BEGIN:VCALENDAR
VERSION:2.0
PRODID:-//ChamberMaster//Event Calendar 2.0//EN
METHOD:PUBLISH
X-PUBLISHED-TTL:P3D
REFRESH-INTERVAL:P3D
CALSCALE:GREGORIAN
BEGIN:VEVENT
DTSTART;VALUE=DATE:20081119
DTEND;VALUE=DATE:20081120
TRANSP:TRANSPARENT
X-MICROSOFT-CDO-ALLDAYEVENT:TRUE
SUMMARY:Lady's Island Middle School - Business for Breakfast
DESCRIPTION:In celebration of American Education Week join us for informal conversation with LIMS students and staff.  Welcome by principal\, Terry Bennett\, 30 minute program with entertainment and a panel of students eager to answer audience questions about middle school life.  Campus tours available to view technology and teaching in action.  Full Breakfast.  Free and open to the public.  Please RSVP by Monday\, November 17th.
X-ALT-DESC;FMTTYPE=text/html:In celebration of American Education Week join us for informal conversation with LIMS students and staff.  Welcome by principal\, Terry Bennett\, 30 minute program with entertainment and a panel of students eager to answer audience questions about middle school life.  Campus tours available to view technology and teaching in action.  Full Breakfast.  Free and open to the public.  Please RSVP by Monday\, November 17th.
LOCATION:
UID:e.1212.2781
SEQUENCE:3
DTSTAMP:20260425T162150Z
URL:https://business.beaufortchamber.org/events/details/lady-s-island-middle-school-business-for-breakfast-11-19-2008-2781
END:VEVENT

END:VCALENDAR
