BEGIN:VCALENDAR
VERSION:2.0
PRODID:-//ChamberMaster//Event Calendar 2.0//EN
METHOD:PUBLISH
X-PUBLISHED-TTL:P3D
REFRESH-INTERVAL:P3D
CALSCALE:GREGORIAN
BEGIN:VEVENT
DTSTART;VALUE=DATE:20080829
DTEND;VALUE=DATE:20080830
TRANSP:TRANSPARENT
X-MICROSOFT-CDO-ALLDAYEVENT:TRUE
SUMMARY:Lands End Woodland River Festival
DESCRIPTION:Parking fees:  cars-$3\, vans-$10\, Buses-$15.  The event is free and open to the public.   A Fish Fry and local\nentertainment will be held on Friday.  Saturday is more fun with an all-day festival of singers\, dancers\, musicians\,  story-tellers\, crafts and food vendors beginning at 11 am.  For more festival information or to become a vendor\, please call the number below.
X-ALT-DESC;FMTTYPE=text/html:Parking fees:  cars-$3\, vans-$10\, Buses-$15.  The event is free and open to the public.   A Fish Fry and local\nentertainment will be held on Friday.  Saturday is more fun with an all-day festival of singers\, dancers\, musicians\,  story-tellers\, crafts and food vendors beginning at 11 am.  For more festival information or to become a vendor\, please call the number below.
LOCATION:
UID:e.1212.2462
SEQUENCE:3
DTSTAMP:20260425T110818Z
URL:https://business.beaufortchamber.org/events/details/lands-end-woodland-river-festival-08-29-2008-2462
END:VEVENT

END:VCALENDAR
