BEGIN:VCALENDAR
VERSION:2.0
PRODID:-//ChamberMaster//Event Calendar 2.0//EN
METHOD:PUBLISH
X-PUBLISHED-TTL:P3D
REFRESH-INTERVAL:P3D
CALSCALE:GREGORIAN
BEGIN:VEVENT
DTSTART;VALUE=DATE:20081106
DTEND;VALUE=DATE:20081107
TRANSP:TRANSPARENT
X-MICROSOFT-CDO-ALLDAYEVENT:TRUE
SUMMARY:Lasik Eye Surgery Talk
DESCRIPTION:Dr. Michael Campbell  - Lasik Vision Correction.  Refreshments.  Please RSVP Dale.
X-ALT-DESC;FMTTYPE=text/html:Dr. Michael Campbell  - Lasik Vision Correction.  Refreshments.  Please RSVP Dale.
LOCATION:
UID:e.1212.2761
SEQUENCE:3
DTSTAMP:20260425T150148Z
URL:https://business.beaufortchamber.org/events/details/lasik-eye-surgery-talk-11-06-2008-2761
END:VEVENT

END:VCALENDAR
