BEGIN:VCALENDAR
VERSION:2.0
PRODID:-//ChamberMaster//Event Calendar 2.0//EN
METHOD:PUBLISH
X-PUBLISHED-TTL:P3D
REFRESH-INTERVAL:P3D
CALSCALE:GREGORIAN
BEGIN:VEVENT
DTSTART:20190518T160000Z
DTEND:20190518T190000Z
X-MICROSOFT-CDO-ALLDAYEVENT:FALSE
SUMMARY:League of Women Voters Beaufort Area Annual Meeting
DESCRIPTION:You've heard their names   Laura Towne\, Rachael Crane Mather\, Charlotte Forten\, Harriet Tubman\, Susie King Taylor   and now you can celebrate their contributions. The  League of Women Voters\, Beaufort Area (LWVB) invites you to "Women of the Reconstruction."\n\n\n\nRufus Pinckney (manager of the Mather Museum and president of the Mather School Alumni Association) speaking about Rachel Crane Mather.\n\n\n\nAlvesta Robertson (vice president of the Mather School Alumni Association) speaking about Harriet Tubman.\n\n\n\nSuzie Parker Devoe (local historical fiction writer\, producer and actor) speaking about Susie King Taylor\, Charlotte Forten and Laura Towne.\n\n\n\nMayor Billy Keyserling will kick off the event with an update on Beaufort's very own Reconstruction Era National Historical Park. The  LWVB has a special surprise in store for Mayor Billy. You'll have to attend to find out what it is!\n\n\n\nLunch catered by "Hank's Low Country She Crab Soup"
X-ALT-DESC;FMTTYPE=text/html:You&rsquo\;ve heard their names &mdash\; Laura Towne\, Rachael Crane Mather\, Charlotte Forten\, Harriet Tubman\, Susie King Taylor &mdash\; and now you can celebrate their contributions. The&nbsp\; League of Women Voters\, Beaufort Area (LWVB) invites you to &ldquo\;Women of the Reconstruction.&rdquo\;<br />\n<br />\nRufus Pinckney (manager of the Mather Museum and president of the Mather School Alumni Association) speaking about Rachel Crane Mather.<br />\n<br />\nAlvesta Robertson (vice president of the Mather School Alumni Association) speaking about Harriet Tubman.<br />\n<br />\nSuzie Parker Devoe (local historical fiction writer\, producer and actor) speaking about Susie King Taylor\, Charlotte Forten and Laura Towne.<br />\n<br />\nMayor Billy Keyserling will kick off the event with an update on Beaufort&rsquo\;s very own Reconstruction Era National Historical Park. The&nbsp\; LWVB has a special surprise in store for Mayor Billy. You&#39\;ll have to attend to find out what it is!<br />\n<br />\nLunch catered by &ldquo\;Hank&rsquo\;s Low Country She Crab Soup&rdquo\;
LOCATION:Beaufort County Black Chamber of Commerce 711 Bladen Street\, Beaufort
UID:e.1212.11592
SEQUENCE:3
DTSTAMP:20260422T175605Z
URL:https://business.beaufortchamber.org/events/details/league-of-women-voters-beaufort-area-annual-meeting-11592
END:VEVENT

END:VCALENDAR
