BEGIN:VCALENDAR
VERSION:2.0
PRODID:-//ChamberMaster//Event Calendar 2.0//EN
METHOD:PUBLISH
X-PUBLISHED-TTL:P3D
REFRESH-INTERVAL:P3D
CALSCALE:GREGORIAN
BEGIN:VEVENT
DTSTART:20190116T190000Z
DTEND:20190116T203000Z
X-MICROSOFT-CDO-ALLDAYEVENT:FALSE
SUMMARY:Learn to Library: Managing Your Account Online
DESCRIPTION:Learn how to search the catalog\, check due dates\, renew items\, place holds\, save your check-out history and more.
X-ALT-DESC;FMTTYPE=text/html:<span style="font-size:12px\;"><span style="font-family:verdana\;"><span style="color: rgb(33\, 33\, 33)\;">Learn how to search the catalog\, check due dates\, renew items\, place holds\, save your check-out history and more.&nbsp\;&nbsp\;</span></span></span>
LOCATION:Beaufort Branch Library\, 311 Scott St. Beaufort\, SC 29902
UID:e.1212.10735
SEQUENCE:3
DTSTAMP:20260422T234033Z
URL:https://business.beaufortchamber.org/events/details/learn-to-library-managing-your-account-online-10735
END:VEVENT

END:VCALENDAR
