BEGIN:VCALENDAR
VERSION:2.0
PRODID:-//ChamberMaster//Event Calendar 2.0//EN
METHOD:PUBLISH
X-PUBLISHED-TTL:P3D
REFRESH-INTERVAL:P3D
CALSCALE:GREGORIAN
BEGIN:VEVENT
DTSTART;VALUE=DATE:20080117
DTEND;VALUE=DATE:20080118
TRANSP:TRANSPARENT
X-MICROSOFT-CDO-ALLDAYEVENT:TRUE
SUMMARY:Linda Sheppard Art Class
DESCRIPTION:Thursdays art class with Linda Cheppard.  "Strengthening Your Paintings in Composition\, Value and Color 1\nPastel or Oil."  Intermediate/advanced.  Cost:  $225.
X-ALT-DESC;FMTTYPE=text/html:Thursdays art class with Linda Cheppard.  "Strengthening Your Paintings in Composition\, Value and Color 1\nPastel or Oil."  Intermediate/advanced.  Cost:  $225.
LOCATION:
UID:e.1212.2110
SEQUENCE:3
DTSTAMP:20260424T234041Z
URL:https://business.beaufortchamber.org/events/details/linda-sheppard-art-class-01-17-2008-2110
END:VEVENT

END:VCALENDAR
