BEGIN:VCALENDAR
VERSION:2.0
PRODID:-//ChamberMaster//Event Calendar 2.0//EN
METHOD:PUBLISH
X-PUBLISHED-TTL:P3D
REFRESH-INTERVAL:P3D
CALSCALE:GREGORIAN
BEGIN:VEVENT
DTSTART:20250321T220000Z
DTEND:20250321T230000Z
X-MICROSOFT-CDO-ALLDAYEVENT:FALSE
SUMMARY:Living History: The Heyward Family & Eliza Lucas Pinckney
DESCRIPTION:Celebrate the 250th anniversary of the American Revolution by exploring fascinating stories of the Heyward Family and two women of era: Eliza Lucas Pinckney and Lydia Davant. Don't miss this unique opportunity\, hosted by the Jasper County 250 Committee\, to experience colonial history firsthand through captivating reenactments. Margaret Pickett will be performing as Eliza while Diane Larsen brings Lydia Davant to life.
X-ALT-DESC;FMTTYPE=text/html:<span style="color:rgb(34\, 34\, 34)\; font-family:adobe-jenson-pro-display\,serif\; font-size:24px">Celebrate the 250th anniversary of the American Revolution by exploring fascinating stories of the Heyward Family and two women of era: Eliza Lucas Pinckney and Lydia Davant. Don&#39\;t miss this unique opportunity\, hosted by the Jasper County 250 Committee\, to experience colonial history firsthand through captivating reenactments. Margaret Pickett will be performing as Eliza while Diane Larsen brings Lydia Davant to life.</span>
LOCATION:Morris Center for Lowcountry Heritage
UID:e.1212.14169
SEQUENCE:3
DTSTAMP:20260423T091400Z
URL:https://business.beaufortchamber.org/events/details/living-history-the-heyward-family-eliza-lucas-pinckney-14169
END:VEVENT

END:VCALENDAR
