BEGIN:VCALENDAR
VERSION:2.0
PRODID:-//ChamberMaster//Event Calendar 2.0//EN
METHOD:PUBLISH
X-PUBLISHED-TTL:P3D
REFRESH-INTERVAL:P3D
CALSCALE:GREGORIAN
BEGIN:VEVENT
DTSTART;VALUE=DATE:20080319
DTEND;VALUE=DATE:20080320
TRANSP:TRANSPARENT
X-MICROSOFT-CDO-ALLDAYEVENT:TRUE
SUMMARY:Living Last Supper Drama
DESCRIPTION:Experience what it was like to be at the Last Supper.  Doors open at 6:45 pm.  Cost:  Free.
X-ALT-DESC;FMTTYPE=text/html:Experience what it was like to be at the Last Supper.  Doors open at 6:45 pm.  Cost:  Free.
LOCATION:
UID:e.1212.2310
SEQUENCE:3
DTSTAMP:20260425T024654Z
URL:https://business.beaufortchamber.org/events/details/living-last-supper-drama-03-19-2008-2310
END:VEVENT

END:VCALENDAR
