BEGIN:VCALENDAR
VERSION:2.0
PRODID:-//ChamberMaster//Event Calendar 2.0//EN
METHOD:PUBLISH
X-PUBLISHED-TTL:P3D
REFRESH-INTERVAL:P3D
CALSCALE:GREGORIAN
BEGIN:VEVENT
DTSTART;VALUE=DATE:20071208
DTEND;VALUE=DATE:20071209
TRANSP:TRANSPARENT
X-MICROSOFT-CDO-ALLDAYEVENT:TRUE
SUMMARY:Low Country Children's Chorus 6th Annual Holiday Concert
DESCRIPTION:No admission\, donations encouraged
X-ALT-DESC;FMTTYPE=text/html:No admission\, donations encouraged
LOCATION:
UID:e.1212.2029
SEQUENCE:3
DTSTAMP:20260424T221552Z
URL:https://business.beaufortchamber.org/events/details/low-country-children-s-chorus-6th-annual-holiday-concert-12-08-2007-2029
END:VEVENT

END:VCALENDAR
