BEGIN:VCALENDAR
VERSION:2.0
PRODID:-//ChamberMaster//Event Calendar 2.0//EN
METHOD:PUBLISH
X-PUBLISHED-TTL:P3D
REFRESH-INTERVAL:P3D
CALSCALE:GREGORIAN
BEGIN:VEVENT
DTSTART:20200324T190000Z
DTEND:20200324T220000Z
X-MICROSOFT-CDO-ALLDAYEVENT:FALSE
SUMMARY:Lowcountry Job Fair
DESCRIPTION:This free event is sponsored by your state & local agencies.  For more information:\n\nJohn Timmons at: John.timmons@dss.sc.gov  or #803-898-0967
X-ALT-DESC;FMTTYPE=text/html:<span style="font-family:arial\;"><span style="font-size:14.0pt\;">This free event is sponsored by your state &amp\; local agencies.&nbsp\; For more information:</span></span><br />\n<strong><span style="color:black\;"><span style="font-family:times new roman\,serif\;"><span style="font-size:14.0pt\;">John Timmons at: </span></span></span></strong><span style="font-family:times new roman\,serif\;"><span style="font-size:14.0pt\;"><a href="mailto:John.timmons@dss.sc.gov" target="_blank" title="blocked::mailto:John.timmons@dss.sc.gov"><strong><em>John.timmons@dss.sc.gov</em></strong></a></span></span><strong><span style="color:black\;"><span style="font-family:times new roman\,serif\;"><span style="font-size:14.0pt\;">&nbsp\; or #803-898-0967</span></span></span></strong>
LOCATION:Beaufort National Guard Readiness Center 1 Cavalry Lane Beaufort\, SC
UID:e.1212.12494
SEQUENCE:3
DTSTAMP:20260420T164710Z
URL:https://business.beaufortchamber.org/events/details/lowcountry-job-fair-12494
END:VEVENT

END:VCALENDAR
