BEGIN:VCALENDAR
VERSION:2.0
PRODID:-//ChamberMaster//Event Calendar 2.0//EN
METHOD:PUBLISH
X-PUBLISHED-TTL:P3D
REFRESH-INTERVAL:P3D
CALSCALE:GREGORIAN
BEGIN:VEVENT
DTSTART;VALUE=DATE:20080829
DTEND;VALUE=DATE:20080830
TRANSP:TRANSPARENT
X-MICROSOFT-CDO-ALLDAYEVENT:TRUE
SUMMARY:Lowcountry Store Grand Opening
DESCRIPTION:Please RSVP for this exciting Grand Opening!
X-ALT-DESC;FMTTYPE=text/html:Please RSVP for this exciting Grand Opening!
LOCATION:Beaufort
UID:e.1212.2668
SEQUENCE:3
DTSTAMP:20260425T105649Z
URL:https://business.beaufortchamber.org/events/details/lowcountry-store-grand-opening-08-29-2008-2668
END:VEVENT

END:VCALENDAR
