BEGIN:VCALENDAR
VERSION:2.0
PRODID:-//ChamberMaster//Event Calendar 2.0//EN
METHOD:PUBLISH
X-PUBLISHED-TTL:P3D
REFRESH-INTERVAL:P3D
CALSCALE:GREGORIAN
BEGIN:VEVENT
DTSTART:20241211T223000Z
DTEND:20241212T000000Z
X-MICROSOFT-CDO-ALLDAYEVENT:FALSE
SUMMARY:Lowcountry Young Professionals Monthly Event
DESCRIPTION:Come join us for hot dogs and beer at the family friendly Hop Dog for a night of holiday cheer and networking. This will be a family friendly event\, so bring your kids. If you have an ugly or crazy sweater feel free to wear that as well. If you feel inclines\, please bring an unwrapped gift for an organization we will be donating to so less fortunate children can wake up to a gift they otherwise would not get.
X-ALT-DESC;FMTTYPE=text/html:Come join us for hot dogs and beer at the family friendly Hop Dog for a night of holiday cheer and networking. This will be a family friendly event\, so bring your kids. If you have an ugly or crazy sweater feel free to wear that as well. If you feel inclines\, please bring an unwrapped gift for an organization we will be donating to so less fortunate children can wake up to a gift they otherwise would not get.
LOCATION:223 Scott Street Beaufort\, SC 29902
UID:e.1212.14040
SEQUENCE:3
DTSTAMP:20260423T163147Z
URL:https://business.beaufortchamber.org/events/details/lowcountry-young-professionals-monthly-event-14040
END:VEVENT

END:VCALENDAR
