BEGIN:VCALENDAR
VERSION:2.0
PRODID:-//ChamberMaster//Event Calendar 2.0//EN
METHOD:PUBLISH
X-PUBLISHED-TTL:P3D
REFRESH-INTERVAL:P3D
CALSCALE:GREGORIAN
BEGIN:VEVENT
DTSTART;VALUE=DATE:20081021
DTEND;VALUE=DATE:20081022
TRANSP:TRANSPARENT
X-MICROSOFT-CDO-ALLDAYEVENT:TRUE
SUMMARY:Lunch and Learn Series - Wellness in the Workplace
DESCRIPTION:The Small Business Committee is proud to announce its newest program\, "Lunch and Learn".  This program provides seminars on challenges many businesses deal with on a daily basis.  The first Lunch and Learn will feature Tom Hetherington of Coastal Physical & Hand Therapy discussing "Wellness in the Workplace".    Seminar includes lunch. $10 Members $15 Non-Members.  RSVP Blakely Williams by  Friday\, October 17.
X-ALT-DESC;FMTTYPE=text/html:The Small Business Committee is proud to announce its newest program\, "Lunch and Learn".  This program provides seminars on challenges many businesses deal with on a daily basis.  The first Lunch and Learn will feature Tom Hetherington of Coastal Physical & Hand Therapy discussing "Wellness in the Workplace".    Seminar includes lunch. $10 Members $15 Non-Members.  RSVP Blakely Williams by  Friday\, October 17.
LOCATION:Beaufort Historic District
UID:e.1212.2716
SEQUENCE:3
DTSTAMP:20260425T135754Z
URL:https://business.beaufortchamber.org/events/details/lunch-and-learn-series-wellness-in-the-workplace-10-21-2008-2716
END:VEVENT

END:VCALENDAR
