BEGIN:VCALENDAR
VERSION:2.0
PRODID:-//ChamberMaster//Event Calendar 2.0//EN
METHOD:PUBLISH
X-PUBLISHED-TTL:P3D
REFRESH-INTERVAL:P3D
CALSCALE:GREGORIAN
BEGIN:VEVENT
DTSTART:20221006T160000Z
DTEND:20221006T170000Z
X-MICROSOFT-CDO-ALLDAYEVENT:FALSE
SUMMARY:Lunch and Learn: Small Business Administration
DESCRIPTION:Use SBA to Grow Your Business in Beaufort\n\n\n\nSBA became well known for the Covid-19 business programs\, but offers much more!  This workshop provides small businesses with information on how to access capital to grow your business using SBA programs and the resources available to support you through the process.  Featured presenters include SBA\, SCORE\, and the Small Business Development Center.  \n\n\n\nRSVP to claim your seat and bring your lunch!\n\n(Or order from Magnolia Cafe next to the Chamber)
X-ALT-DESC;FMTTYPE=text/html:Use SBA to Grow Your Business in Beaufort<br />\n<br />\nSBA became well known for the Covid-19 business programs\, but offers much more!&nbsp\; This workshop provides small businesses with information on how to access capital to grow your business using SBA programs and the resources available to support you through the process.&nbsp\; Featured presenters include SBA\, SCORE\, and the Small Business Development Center.&nbsp\;&nbsp\;<br />\n<br />\nRSVP to claim your seat and bring your lunch!<br />\n(Or order from Magnolia Cafe next to the Chamber)
LOCATION:Chamber Office at 1106 Carteret Street
UID:e.1212.13298
SEQUENCE:3
DTSTAMP:20260424T232447Z
URL:https://business.beaufortchamber.org/events/details/lunch-and-learn-small-business-administration-13298
END:VEVENT

END:VCALENDAR
