BEGIN:VCALENDAR
VERSION:2.0
PRODID:-//ChamberMaster//Event Calendar 2.0//EN
METHOD:PUBLISH
X-PUBLISHED-TTL:P3D
REFRESH-INTERVAL:P3D
CALSCALE:GREGORIAN
BEGIN:VEVENT
DTSTART:20230621T160000Z
DTEND:20230621T170000Z
X-MICROSOFT-CDO-ALLDAYEVENT:FALSE
SUMMARY:Lunch & Learn: Hurricane Prep for Your Business
DESCRIPTION:LUNCH & LEARN: EMERGENCY PREPAREDNESS FOR BUSINESSES and BEAUFORT COUNTY HURRICANE PROTOCOL\n\n\n\nFeatured Guest Speaker: Col. Neil Baxley\n\nCommander of Emergency Management Division at \n\nBeaufort County Sheriff's Office\n\n\n\nSandwiches to be served for lunch.\n\n\n\nSponsored by ServPro of Beaufort County
X-ALT-DESC;FMTTYPE=text/html:LUNCH &amp\; LEARN:&nbsp\;EMERGENCY PREPAREDNESS FOR BUSINESSES and BEAUFORT COUNTY HURRICANE PROTOCOL<br />\n<br />\nFeatured Guest Speaker: Col. Neil Baxley<br />\nCommander of Emergency Management Division at&nbsp\;<br />\nBeaufort County Sheriff&rsquo\;s Office<br />\n<br />\nSandwiches to be served for lunch.<br />\n<br />\nSponsored by ServPro of Beaufort County
LOCATION:1106 Carteret Street Beaufort Regional Chamber of Commerce
UID:e.1212.13404
SEQUENCE:3
DTSTAMP:20260424T114756Z
URL:https://business.beaufortchamber.org/events/details/lunch-learn-hurricane-prep-for-your-business-13404
END:VEVENT

END:VCALENDAR
