BEGIN:VCALENDAR
VERSION:2.0
PRODID:-//ChamberMaster//Event Calendar 2.0//EN
METHOD:PUBLISH
X-PUBLISHED-TTL:P3D
REFRESH-INTERVAL:P3D
CALSCALE:GREGORIAN
BEGIN:VEVENT
DTSTART:20260312T213000Z
DTEND:20260312T233000Z
X-MICROSOFT-CDO-ALLDAYEVENT:FALSE
SUMMARY:LYP March Networking Event
DESCRIPTION:Join the Lowcountry Young Professionals for an evening of connections and inspiration! Hosted by Josh Glenn\, Edward Jones at The Beaufort Inn.
X-ALT-DESC;FMTTYPE=text/html:Join the Lowcountry Young Professionals for an evening of connections and inspiration! Hosted by Josh Glenn\, Edward Jones at The Beaufort Inn.&nbsp\;
LOCATION:Beaufort Inn 809 Port Republic Street Beaufort\, SC 29902
UID:e.1212.14999
SEQUENCE:3
DTSTAMP:20260420T085018Z
URL:https://business.beaufortchamber.org/events/details/lyp-march-networking-event-14999
END:VEVENT

END:VCALENDAR
