BEGIN:VCALENDAR
VERSION:2.0
PRODID:-//ChamberMaster//Event Calendar 2.0//EN
METHOD:PUBLISH
X-PUBLISHED-TTL:P3D
REFRESH-INTERVAL:P3D
CALSCALE:GREGORIAN
BEGIN:VEVENT
DTSTART;VALUE=DATE:20081107
DTEND;VALUE=DATE:20081108
TRANSP:TRANSPARENT
X-MICROSOFT-CDO-ALLDAYEVENT:TRUE
SUMMARY:LYP Professional Development Seminar - 'Death by Meeting'
DESCRIPTION:Leadership Fable....solving most painful problem in business.  Based on book by Patrick Lencioni.  Good food\, great door prizes\, and valuable information.  Speaker:  Laura Hill\, Business Professional.                      LYP Members Free.  Non-Members $10.
X-ALT-DESC;FMTTYPE=text/html:Leadership Fable....solving most painful problem in business.  Based on book by Patrick Lencioni.  Good food\, great door prizes\, and valuable information.  Speaker:  Laura Hill\, Business Professional.                      LYP Members Free.  Non-Members $10.
LOCATION:
UID:e.1212.2758
SEQUENCE:3
DTSTAMP:20260425T145717Z
URL:https://business.beaufortchamber.org/events/details/lyp-professional-development-seminar-death-by-meeting-11-07-2008-2758
END:VEVENT

END:VCALENDAR
