BEGIN:VCALENDAR
VERSION:2.0
PRODID:-//ChamberMaster//Event Calendar 2.0//EN
METHOD:PUBLISH
X-PUBLISHED-TTL:P3D
REFRESH-INTERVAL:P3D
CALSCALE:GREGORIAN
BEGIN:VEVENT
DTSTART;VALUE=DATE:20080314
DTEND;VALUE=DATE:20080315
TRANSP:TRANSPARENT
X-MICROSOFT-CDO-ALLDAYEVENT:TRUE
SUMMARY:LYP Professional Development Seminar - 'There is No Second Chance at First Impression'
DESCRIPTION:A seminar on selling yourself\, creating your circle of influence and selling your product.\n\nSpeaker: Greg Catoe\, Program Director for the Child ID Program\n\nCost: FREE\, includes hot breakfast and door prizes!
X-ALT-DESC;FMTTYPE=text/html:A seminar on selling yourself\, creating your circle of influence and selling your product.<BR><BR>Speaker: Greg Catoe\, Program Director for the Child ID Program<BR><BR>Cost: <b>FREE</b>\, includes hot breakfast and door prizes!
LOCATION:Bluffton
UID:e.1212.2236
SEQUENCE:3
DTSTAMP:20260425T024544Z
URL:https://business.beaufortchamber.org/events/details/lyp-professional-development-seminar-there-is-no-second-chance-at-first-impression-03-14-2008-2236
END:VEVENT

END:VCALENDAR
