BEGIN:VCALENDAR
VERSION:2.0
PRODID:-//ChamberMaster//Event Calendar 2.0//EN
METHOD:PUBLISH
X-PUBLISHED-TTL:P3D
REFRESH-INTERVAL:P3D
CALSCALE:GREGORIAN
BEGIN:VEVENT
DTSTART:20250904T213000Z
DTEND:20250904T230000Z
X-MICROSOFT-CDO-ALLDAYEVENT:FALSE
SUMMARY:LYP Social hosted by Fripp Island Resort and Beaufort Memorial Hospital
DESCRIPTION:Join the growing group of Lowcountry Young Professionals and sip\, chat and connect with other fellow young professionals. Event limited to 40 individuals and requires pre-registration.
X-ALT-DESC;FMTTYPE=text/html:Join the growing group of Lowcountry Young Professionals and sip\, chat and connect with other fellow young professionals. Event limited to 40 individuals and requires pre-registration.
LOCATION:Beaufort Memorial Hospital Dock 955 Ribaut Rd Beaufort\, SC 29902
UID:e.1212.14722
SEQUENCE:3
DTSTAMP:20260424T063225Z
URL:https://business.beaufortchamber.org/events/details/lyp-social-hosted-by-fripp-island-resort-and-beaufort-memorial-hospital-14722
END:VEVENT

END:VCALENDAR
