BEGIN:VCALENDAR
VERSION:2.0
PRODID:-//ChamberMaster//Event Calendar 2.0//EN
METHOD:PUBLISH
X-PUBLISHED-TTL:P3D
REFRESH-INTERVAL:P3D
CALSCALE:GREGORIAN
BEGIN:VEVENT
DTSTART;VALUE=DATE:20080119
DTEND;VALUE=DATE:20080120
TRANSP:TRANSPARENT
X-MICROSOFT-CDO-ALLDAYEVENT:TRUE
SUMMARY:M. L. King Banquet
DESCRIPTION:Speaker:  Rev. James E. Moore\, Pastor of Mt. Carmel Baptist Church\, Dale\, SC.  Banquet to be held at\nthe Lyceum.  Go to Gate on Parris Island\, traffic circle to Mainland\, Blvd de France\, Right onto Mexico Street\,\n(4 way stop sign) and Left onto Tripoli Street.  Lyceum on the  Right.  ML King Humanitarian Award to be\npresented.  Deadline for submission is Friday\, Jan. 11.  Call 843-228-3818 or 846-0881 for applications.
X-ALT-DESC;FMTTYPE=text/html:Speaker:  Rev. James E. Moore\, Pastor of Mt. Carmel Baptist Church\, Dale\, SC.  Banquet to be held at\nthe Lyceum.  Go to Gate on Parris Island\, traffic circle to Mainland\, Blvd de France\, Right onto Mexico Street\,\n(4 way stop sign) and Left onto Tripoli Street.  Lyceum on the  Right.  ML King Humanitarian Award to be\npresented.  Deadline for submission is Friday\, Jan. 11.  Call 843-228-3818 or 846-0881 for applications.
LOCATION:Parris Island
UID:e.1212.2126
SEQUENCE:3
DTSTAMP:20260425T005307Z
URL:https://business.beaufortchamber.org/events/details/m-l-king-banquet-01-19-2008-2126
END:VEVENT

END:VCALENDAR
