BEGIN:VCALENDAR
VERSION:2.0
PRODID:-//ChamberMaster//Event Calendar 2.0//EN
METHOD:PUBLISH
X-PUBLISHED-TTL:P3D
REFRESH-INTERVAL:P3D
CALSCALE:GREGORIAN
BEGIN:VEVENT
DTSTART;VALUE=DATE:20070612
DTEND;VALUE=DATE:20070613
TRANSP:TRANSPARENT
X-MICROSOFT-CDO-ALLDAYEVENT:TRUE
SUMMARY:Main Street Beaufort Merchants Association Business Meeting
DESCRIPTION:
X-ALT-DESC;FMTTYPE=text/html:
LOCATION:
UID:e.1212.1451
SEQUENCE:3
DTSTAMP:20260424T142735Z
URL:https://business.beaufortchamber.org/events/details/main-street-beaufort-merchants-association-business-meeting-06-12-2007-1451
END:VEVENT

END:VCALENDAR
